BEGIN:VCALENDAR
VERSION:2.0
PRODID:-//FreeportCAN - ECPv6.15.20//NONSGML v1.0//EN
CALSCALE:GREGORIAN
METHOD:PUBLISH
X-ORIGINAL-URL:https://freeportcan.org
X-WR-CALDESC:Events for FreeportCAN
REFRESH-INTERVAL;VALUE=DURATION:PT1H
X-Robots-Tag:noindex
X-PUBLISHED-TTL:PT1H
BEGIN:VTIMEZONE
TZID:America/New_York
BEGIN:DAYLIGHT
TZOFFSETFROM:-0500
TZOFFSETTO:-0400
TZNAME:EDT
DTSTART:20250309T070000
END:DAYLIGHT
BEGIN:STANDARD
TZOFFSETFROM:-0400
TZOFFSETTO:-0500
TZNAME:EST
DTSTART:20251102T060000
END:STANDARD
BEGIN:DAYLIGHT
TZOFFSETFROM:-0500
TZOFFSETTO:-0400
TZNAME:EDT
DTSTART:20260308T070000
END:DAYLIGHT
BEGIN:STANDARD
TZOFFSETFROM:-0400
TZOFFSETTO:-0500
TZNAME:EST
DTSTART:20261101T060000
END:STANDARD
BEGIN:DAYLIGHT
TZOFFSETFROM:-0500
TZOFFSETTO:-0400
TZNAME:EDT
DTSTART:20270314T070000
END:DAYLIGHT
BEGIN:STANDARD
TZOFFSETFROM:-0400
TZOFFSETTO:-0500
TZNAME:EST
DTSTART:20271107T060000
END:STANDARD
END:VTIMEZONE
BEGIN:VEVENT
DTSTART;TZID=America/New_York:20260314T090000
DTEND;TZID=America/New_York:20260314T120000
DTSTAMP:20260424T163358
CREATED:20260221T220717Z
LAST-MODIFIED:20260222T191856Z
UID:4861-1773478800-1773489600@freeportcan.org
SUMMARY:Home Energy Solutions + Opportunities
DESCRIPTION:Energy Forum & Discussion\nFor resilient homes\, lower bills & energy independence\nMarch 14 9am – 12 pm\nFree & Open to the Public\nFreeport Community Center\n53 Depot Street\, Freeport Maine 04032\nLocal residents are invited to attend this free Freeport Community Energy Forum\, focused on practical home energy solutions that lower costs\, improve comfort and strengthen household resilience. \nHosted in partnership by Freeport Climate Action Now\, passivhausMAINE\, Balsam Realty and Freeport Community Services\, the forum will bring together trusted local experts\, nonprofits and homeowners to share real world insights on energy efficiency\, electrification and renewable energy options for Maine homes. \nThe program will feature short panel discussions and opportunities to connect directly with local organizations at informational tables. Topics will include high efficiency heat pumps\, solar power\, backup and resilience technologies and available state and federal incentives. \nParticipants include Royal River Heat Pumps\, Maine Solar Solutions\, Efficiency Maine\, and retrofitMAINE. \n\n\n\n\n\n\n\n\n\n\nState Representative Melanie Sachs of Freeport will deliver the keynote address\, providing an overview of state energy initiatives and relevant legislative efforts affecting Maine homeowners. \n  \n  \n  \nRegistration is free\, but seating is limited. \nREGISTER HERE\nPresented by
URL:https://freeportcan.org/event/home-energy-forum-2026/
LOCATION:Freeport Community Services – Bradley Room\, 52 Depot St.\, Freeport\, 04032\, United States
CATEGORIES:Events
ATTACH;FMTTYPE=image/jpeg:https://freeportcan.org/wp-content/uploads/2026/02/Home-Energy-Fair-Graphic-1500x800-1.jpg
ORGANIZER;CN="FreeportCAN":MAILTO:climate@freeportcan.org
END:VEVENT
END:VCALENDAR