BEGIN:VCALENDAR
VERSION:2.0
PRODID:-//FreeportCAN - ECPv6.15.20//NONSGML v1.0//EN
CALSCALE:GREGORIAN
METHOD:PUBLISH
X-WR-CALNAME:FreeportCAN
X-ORIGINAL-URL:https://freeportcan.org
X-WR-CALDESC:Events for FreeportCAN
REFRESH-INTERVAL;VALUE=DURATION:PT1H
X-Robots-Tag:noindex
X-PUBLISHED-TTL:PT1H
BEGIN:VTIMEZONE
TZID:America/New_York
BEGIN:DAYLIGHT
TZOFFSETFROM:-0500
TZOFFSETTO:-0400
TZNAME:EDT
DTSTART:20230312T070000
END:DAYLIGHT
BEGIN:STANDARD
TZOFFSETFROM:-0400
TZOFFSETTO:-0500
TZNAME:EST
DTSTART:20231105T060000
END:STANDARD
BEGIN:DAYLIGHT
TZOFFSETFROM:-0500
TZOFFSETTO:-0400
TZNAME:EDT
DTSTART:20240310T070000
END:DAYLIGHT
BEGIN:STANDARD
TZOFFSETFROM:-0400
TZOFFSETTO:-0500
TZNAME:EST
DTSTART:20241103T060000
END:STANDARD
BEGIN:DAYLIGHT
TZOFFSETFROM:-0500
TZOFFSETTO:-0400
TZNAME:EDT
DTSTART:20250309T070000
END:DAYLIGHT
BEGIN:STANDARD
TZOFFSETFROM:-0400
TZOFFSETTO:-0500
TZNAME:EST
DTSTART:20251102T060000
END:STANDARD
END:VTIMEZONE
BEGIN:VEVENT
DTSTART;TZID=America/New_York:20241011T160000
DTEND;TZID=America/New_York:20241011T180000
DTSTAMP:20260425T200146
CREATED:20241005T033630Z
LAST-MODIFIED:20241005T033747Z
UID:3927-1728662400-1728669600@freeportcan.org
SUMMARY:The "Pinkies" Opening Event
DESCRIPTION:The pink sculptures have found a new home in Freeport\nOpening event: Friday\, Oct. 11\, 4-6pm\nFreeport Town Hall lawn \nThese sculptures\, made from reclaimed fishing gear\, honor the stewardship of Maine’s coastal fisheries\, and represent the growing impact of climate change on our marine environment. \nThey promise to attract attention while inspiring environmental conversations with all ages. \nThe Pinkies—a trio of monumental steel sculptures sheathed in reclaimed fishing gear from beaches and coastal waters—were created by artist Pamela Moulton aka “Posey” with the help of fishermen\, nonprofits\, and over 5000 volunteers. These tall\, huggable sculptures will be on display from October 2024 through October 2025 on the lawn in front of Freeport’s Town Hall at 30 Main Street. \nA series of educational events inspired by The Pinkies are planned over the next year\, engaging local students and the community to celebrate art created from reclaimed materials\, and offer meaningful opportunities for community dialogue about the growing impact of climate change on our marine ecosystems and coastal livelihoods. \nA fun\, interactive\, family-friendly welcome event is planned for next Friday\, October 11\, 2024\, from 4-6 pm. Join the fun and help us give a warm welcome to The Pinkies! \nProject partners: FreeportCAN\, Maine Coast Fishermen’s Association\, Freeport Oyster Bar\, Meetinghouse Arts\, Center for Arts & Ecology at Desert of Maine
URL:https://freeportcan.org/event/the-pinkies-opening-event/
LOCATION:Freeport Town Hall\, 30 Main St.\, Freeport\, ME\, 04032\, United States
CATEGORIES:Events
ATTACH;FMTTYPE=image/jpeg:https://freeportcan.org/wp-content/uploads/2024/10/Pinkies-1500x800-1.jpg
END:VEVENT
BEGIN:VEVENT
DTSTART;TZID=America/New_York:20241014T080000
DTEND;TZID=America/New_York:20241014T170000
DTSTAMP:20260425T200146
CREATED:20241005T024339Z
LAST-MODIFIED:20241005T032956Z
UID:3913-1728892800-1728925200@freeportcan.org
SUMMARY:Window Dressers deadline to sign up to get your home insulated
DESCRIPTION:Join host passivhausMaine\, Freeport Climate Action Now and other community members and organizations in a WindowDresser community build event this November to create energy-saving window inserts for our neighbors. This build is an opportunity for us to take tangible steps to reduce energy usage and make our homes greener. \nEvent Details:\nDates: November 11 – 18\, 2024\nLocation: Wishcamper Barn\, 35 Little River Lane\, Freeport\, ME\nContact: Dori Lam\, dori@passivhausmaine.org\nGet your home insulated. 🏠\nThe process is simple. After you sign up\, a team of volunteers will visit your home to measure your windows and provide a quote. Once measured\, you’ll be invited to participate in the community build\, where your inserts will be custom-made. Volunteering is encouraged but not required\, and all skills are taught on-site. Once the inserts are built\, you can pick them up and easily install them at home. \nDeadline to sign up: Oct. 14th\nSIGN UP NOW
URL:https://freeportcan.org/event/window-dresser-sign-up/
LOCATION:ME
ATTACH;FMTTYPE=image/jpeg:https://freeportcan.org/wp-content/uploads/2024/10/Window-Dressers-1500x800-1.jpg
END:VEVENT
END:VCALENDAR