BEGIN:VCALENDAR
VERSION:2.0
PRODID:-//FreeportCAN - ECPv6.15.20//NONSGML v1.0//EN
CALSCALE:GREGORIAN
METHOD:PUBLISH
X-ORIGINAL-URL:https://freeportcan.org
X-WR-CALDESC:Events for FreeportCAN
REFRESH-INTERVAL;VALUE=DURATION:PT1H
X-Robots-Tag:noindex
X-PUBLISHED-TTL:PT1H
BEGIN:VTIMEZONE
TZID:America/New_York
BEGIN:DAYLIGHT
TZOFFSETFROM:-0500
TZOFFSETTO:-0400
TZNAME:EDT
DTSTART:20250309T070000
END:DAYLIGHT
BEGIN:STANDARD
TZOFFSETFROM:-0400
TZOFFSETTO:-0500
TZNAME:EST
DTSTART:20251102T060000
END:STANDARD
BEGIN:DAYLIGHT
TZOFFSETFROM:-0500
TZOFFSETTO:-0400
TZNAME:EDT
DTSTART:20260308T070000
END:DAYLIGHT
BEGIN:STANDARD
TZOFFSETFROM:-0400
TZOFFSETTO:-0500
TZNAME:EST
DTSTART:20261101T060000
END:STANDARD
BEGIN:DAYLIGHT
TZOFFSETFROM:-0500
TZOFFSETTO:-0400
TZNAME:EDT
DTSTART:20270314T070000
END:DAYLIGHT
BEGIN:STANDARD
TZOFFSETFROM:-0400
TZOFFSETTO:-0500
TZNAME:EST
DTSTART:20271107T060000
END:STANDARD
END:VTIMEZONE
BEGIN:VEVENT
DTSTART;TZID=America/New_York:20260506T180000
DTEND;TZID=America/New_York:20260506T193000
DTSTAMP:20260424T151840
CREATED:20260422T181348Z
LAST-MODIFIED:20260422T181348Z
UID:5182-1778090400-1778095800@freeportcan.org
SUMMARY:Waste-Wise Freeport Forum and Green Resource Fair
DESCRIPTION:From taxes to toxins\, waste costs you\, our community and our planet every day.\nThe system is broken and taxpayers are footing the bill.\nBut waste isn’t inevitable – it’s a design flaw we can fix!\nFreeport Climate Action Now (FreeportCAN) and the Freeport Sustainability Advisory Board (FCAN) have joined forces to offer a FREE waste awareness and solutions forum where you will learn the hidden ways waste is costing you\, and simple fixes that save money now. \nJoin us for a panel discussion featuring industry leaders from our community and around the state as they explore the waste problem\, why it matters to you\, and what can be done about it. \nLocal nonprofits and sustainable brands will be on hand at resource tables with products and information to help you reduce your waste and save money. \nLEARN MORE
URL:https://freeportcan.org/event/waste-wise-freeport-forum-and-green-resource-fair/
LOCATION:Freeport Community Library Meeting Room\, 10 Library Drive\, Freeport\, ME\, 04032\, United States
CATEGORIES:Events
ATTACH;FMTTYPE=image/jpeg:https://freeportcan.org/wp-content/uploads/2026/03/Waste-Wise-1500-graphic-1.jpg
ORGANIZER;CN="FreeportCAN":MAILTO:climate@freeportcan.org
END:VEVENT
END:VCALENDAR