BEGIN:VCALENDAR
VERSION:2.0
PRODID:-//FreeportCAN - ECPv6.15.20//NONSGML v1.0//EN
CALSCALE:GREGORIAN
METHOD:PUBLISH
X-ORIGINAL-URL:https://freeportcan.org
X-WR-CALDESC:Events for FreeportCAN
REFRESH-INTERVAL;VALUE=DURATION:PT1H
X-Robots-Tag:noindex
X-PUBLISHED-TTL:PT1H
BEGIN:VTIMEZONE
TZID:America/New_York
BEGIN:DAYLIGHT
TZOFFSETFROM:-0500
TZOFFSETTO:-0400
TZNAME:EDT
DTSTART:20230312T070000
END:DAYLIGHT
BEGIN:STANDARD
TZOFFSETFROM:-0400
TZOFFSETTO:-0500
TZNAME:EST
DTSTART:20231105T060000
END:STANDARD
BEGIN:DAYLIGHT
TZOFFSETFROM:-0500
TZOFFSETTO:-0400
TZNAME:EDT
DTSTART:20240310T070000
END:DAYLIGHT
BEGIN:STANDARD
TZOFFSETFROM:-0400
TZOFFSETTO:-0500
TZNAME:EST
DTSTART:20241103T060000
END:STANDARD
BEGIN:DAYLIGHT
TZOFFSETFROM:-0500
TZOFFSETTO:-0400
TZNAME:EDT
DTSTART:20250309T070000
END:DAYLIGHT
BEGIN:STANDARD
TZOFFSETFROM:-0400
TZOFFSETTO:-0500
TZNAME:EST
DTSTART:20251102T060000
END:STANDARD
END:VTIMEZONE
BEGIN:VEVENT
DTSTART;VALUE=DATE:20241111
DTEND;VALUE=DATE:20241119
DTSTAMP:20260425T170233
CREATED:20241005T032525Z
LAST-MODIFIED:20241005T032750Z
UID:3924-1731283200-1731974399@freeportcan.org
SUMMARY:Window Dressers Build Event
DESCRIPTION:Join host passivhausMaine\, Freeport Climate Action Now and other community members and organizations in a WindowDresser community build event this November to create energy-saving window inserts for our neighbors. This build is an opportunity for us to take tangible steps to reduce energy usage and make our homes greener. \nEvent Details:\nDates: November 11 – 18\, 2024\nLocation: Wishcamper Barn\, 35 Little River Lane\, Freeport\, ME\nContact: Dori Lam\, dori@passivhausmaine.org
URL:https://freeportcan.org/event/window-dressers-build-event/
LOCATION:Wishcamper Barn\, 35 Little River Lane\, Freeport\, ME\, 04032\, United States
CATEGORIES:Events
ATTACH;FMTTYPE=image/jpeg:https://freeportcan.org/wp-content/uploads/2024/10/Window-Dressers-1500x800-1.jpg
END:VEVENT
END:VCALENDAR